BEGIN:VCALENDAR
VERSION:2.0
PRODID:-//Impro Theater Chamäleon Regensburg - ECPv6.15.20//NONSGML v1.0//EN
CALSCALE:GREGORIAN
METHOD:PUBLISH
X-WR-CALNAME:Impro Theater Chamäleon Regensburg
X-ORIGINAL-URL:https://impro-theater-chamaeleon.de
X-WR-CALDESC:Veranstaltungen für Impro Theater Chamäleon Regensburg
REFRESH-INTERVAL;VALUE=DURATION:PT1H
X-Robots-Tag:noindex
X-PUBLISHED-TTL:PT1H
BEGIN:VTIMEZONE
TZID:Europe/Berlin
BEGIN:DAYLIGHT
TZOFFSETFROM:+0100
TZOFFSETTO:+0200
TZNAME:CEST
DTSTART:20170326T010000
END:DAYLIGHT
BEGIN:STANDARD
TZOFFSETFROM:+0200
TZOFFSETTO:+0100
TZNAME:CET
DTSTART:20171029T010000
END:STANDARD
BEGIN:DAYLIGHT
TZOFFSETFROM:+0100
TZOFFSETTO:+0200
TZNAME:CEST
DTSTART:20180325T010000
END:DAYLIGHT
BEGIN:STANDARD
TZOFFSETFROM:+0200
TZOFFSETTO:+0100
TZNAME:CET
DTSTART:20181028T010000
END:STANDARD
BEGIN:DAYLIGHT
TZOFFSETFROM:+0100
TZOFFSETTO:+0200
TZNAME:CEST
DTSTART:20190331T010000
END:DAYLIGHT
BEGIN:STANDARD
TZOFFSETFROM:+0200
TZOFFSETTO:+0100
TZNAME:CET
DTSTART:20191027T010000
END:STANDARD
END:VTIMEZONE
BEGIN:VEVENT
DTSTART;TZID=Europe/Berlin:20181118T190000
DTEND;TZID=Europe/Berlin:20181118T210000
DTSTAMP:20260420T163313
CREATED:20180319T103015Z
LAST-MODIFIED:20180319T110109Z
UID:1202-1542567600-1542574800@impro-theater-chamaeleon.de
SUMMARY:ImproTheater Chamäleon:  "Krimi - Grabgeflüster"
DESCRIPTION:Bei diesem Krimi dürfen sie den Täter und das Tatwerkzeug selber festlegen.\nLangsam wird es draußen schaurig und wir wollen den düsteren Geschichten auf der Improbühne und in euren Köpfen Raum geben. Diesmal müsst ihr euch nicht zwischen Impro und Tatort entscheiden. Wir servieren euch einen erstklassigen Krimi mit Mörder und Tatwerkzeug ganz nach eurer Facon. Natürlich steht auch bei uns die Frage im Raum: Wer war so gnadenlos und hat den eiskalten Mord begangen? Die unscheinbare Sekretärin oder der prollige Justizbeamte? Gemeinsam werden wir den Mörder anhand stichfester Indizien entlarven. Wer den richtigen Mörder errät\, kann vielleicht sogar eine Freikarte gewinnen.  \nKarten erhalten Sie online über www.okticket.de\, in der Touristinfo im Rathaus sowie bei jeder weiteren okticket VVK-Stelle und über das Statt-Theater unter 0941-53302.
URL:https://impro-theater-chamaeleon.de/event/improtheater-chamaeleon-krimi-grabgefluester/
LOCATION:STATT-Theater\, Winklergasse 16\, Regensburg\, Winklergasse 16\, Regensburg\, Bayern\, 93047
CATEGORIES:ImproShow
ORGANIZER;CN="STATT-Theater":MAILTO:info@statt-theater.de
END:VEVENT
END:VCALENDAR