BEGIN:VCALENDAR
VERSION:2.0
PRODID:-//Impro Theater Chamäleon Regensburg - ECPv6.15.20//NONSGML v1.0//EN
CALSCALE:GREGORIAN
METHOD:PUBLISH
X-ORIGINAL-URL:https://impro-theater-chamaeleon.de
X-WR-CALDESC:Veranstaltungen für Impro Theater Chamäleon Regensburg
REFRESH-INTERVAL;VALUE=DURATION:PT1H
X-Robots-Tag:noindex
X-PUBLISHED-TTL:PT1H
BEGIN:VTIMEZONE
TZID:Europe/Berlin
BEGIN:DAYLIGHT
TZOFFSETFROM:+0100
TZOFFSETTO:+0200
TZNAME:CEST
DTSTART:20160327T010000
END:DAYLIGHT
BEGIN:STANDARD
TZOFFSETFROM:+0200
TZOFFSETTO:+0100
TZNAME:CET
DTSTART:20161030T010000
END:STANDARD
BEGIN:DAYLIGHT
TZOFFSETFROM:+0100
TZOFFSETTO:+0200
TZNAME:CEST
DTSTART:20170326T010000
END:DAYLIGHT
BEGIN:STANDARD
TZOFFSETFROM:+0200
TZOFFSETTO:+0100
TZNAME:CET
DTSTART:20171029T010000
END:STANDARD
BEGIN:DAYLIGHT
TZOFFSETFROM:+0100
TZOFFSETTO:+0200
TZNAME:CEST
DTSTART:20180325T010000
END:DAYLIGHT
BEGIN:STANDARD
TZOFFSETFROM:+0200
TZOFFSETTO:+0100
TZNAME:CET
DTSTART:20181028T010000
END:STANDARD
END:VTIMEZONE
BEGIN:VEVENT
DTSTART;TZID=Europe/Berlin:20171230T190000
DTEND;TZID=Europe/Berlin:20171230T210000
DTSTAMP:20260421T051313
CREATED:20171112T205354Z
LAST-MODIFIED:20171112T211158Z
UID:1151-1514660400-1514667600@impro-theater-chamaeleon.de
SUMMARY:ImproTheater Chamäleon:  "ReviewPreviewShow 2017-2018"
DESCRIPTION:Jahresrückblicke – Witz für Witz anhand des Jahreslaufs. Das klingt doch nach einem einfachen Rezept\, dachten sich die Chamäleons. So präsentieren sie uns ihren kunterbunten Jahresrückblick\, kurz bevor 2017 seine Pforten schließt und das dritte Jahrtausend erwachsen wird. Natürlich ist -wie immer- alles komplett improvisiert. Die Chamäleons ergründen\, was die ganz genaue Wahrheit ist – irgendwo zwischen dpa-Meldung und Verschwörungstheorie.\nErstmals in der Theatergeschichte dieser Erde erzählen die ImproSpieler aber auch die Zukunft: Die absolut wasserdichte Preview 2018. \nKarten erhalten Sie online über www.okticket.de\, in der Touristinfo im Rathaus sowie bei jeder weiteren okticket VVK-Stelle und über das Statt-Theater unter 0941/ 53302. \nEintritt 15 Euro zzgl. VVK-Gebühr
URL:https://impro-theater-chamaeleon.de/event/improtheater-chamaeleon-reviewpreviewshow-2017-2018/
LOCATION:STATT-Theater\, Winklergasse 16\, Regensburg\, Winklergasse 16\, Regensburg\, Bayern\, 93047
ORGANIZER;CN="STATT-Theater":MAILTO:info@statt-theater.de
END:VEVENT
END:VCALENDAR