BEGIN:VCALENDAR
VERSION:2.0
PRODID:-//Impro Theater Chamäleon Regensburg - ECPv6.15.20//NONSGML v1.0//EN
CALSCALE:GREGORIAN
METHOD:PUBLISH
X-ORIGINAL-URL:https://impro-theater-chamaeleon.de
X-WR-CALDESC:Veranstaltungen für Impro Theater Chamäleon Regensburg
REFRESH-INTERVAL;VALUE=DURATION:PT1H
X-Robots-Tag:noindex
X-PUBLISHED-TTL:PT1H
BEGIN:VTIMEZONE
TZID:Europe/Berlin
BEGIN:DAYLIGHT
TZOFFSETFROM:+0100
TZOFFSETTO:+0200
TZNAME:CEST
DTSTART:20250330T010000
END:DAYLIGHT
BEGIN:STANDARD
TZOFFSETFROM:+0200
TZOFFSETTO:+0100
TZNAME:CET
DTSTART:20251026T010000
END:STANDARD
BEGIN:DAYLIGHT
TZOFFSETFROM:+0100
TZOFFSETTO:+0200
TZNAME:CEST
DTSTART:20260329T010000
END:DAYLIGHT
BEGIN:STANDARD
TZOFFSETFROM:+0200
TZOFFSETTO:+0100
TZNAME:CET
DTSTART:20261025T010000
END:STANDARD
BEGIN:DAYLIGHT
TZOFFSETFROM:+0100
TZOFFSETTO:+0200
TZNAME:CEST
DTSTART:20270328T010000
END:DAYLIGHT
BEGIN:STANDARD
TZOFFSETFROM:+0200
TZOFFSETTO:+0100
TZNAME:CET
DTSTART:20271031T010000
END:STANDARD
END:VTIMEZONE
BEGIN:VEVENT
DTSTART;TZID=Europe/Berlin:20260118T193000
DTEND;TZID=Europe/Berlin:20260118T220000
DTSTAMP:20260422T164946
CREATED:20260106T162717Z
LAST-MODIFIED:20260106T195944Z
UID:2319-1768764600-1768773600@impro-theater-chamaeleon.de
SUMMARY:Hefte raus\, Klassenarbeit!
DESCRIPTION:Schulzeit reloaded: Lachen\, Weinen und alles dazwischen! \nDie erste Liebe\, der erste Kuss\, der erste heftige Ärger\, der erste Rausch. Das alles fällt bei den meisten in die Schulzeit. Grund genug für die Chamäleons sich dieser so intensiv erlebten Zeit zu widmen. Lehrerzimmer\, Schulturnhalle\, Hausmeisterbüro und Pausenhof – wir kehren zurück an die Orte unserer und eurer Jugend und lassen Schönes und Schreckliches auferstehen. Bringt zu unserer Unterstützung gerne Erinnerungen\, Gegenstände oder alte Zeugnisse mit. Wir spielen euren intellektuellen Grabenkampf mit Herrn Schulze und entdecken die verschollenen Liebesgedichte an Sabine wieder.
URL:https://impro-theater-chamaeleon.de/event/hefte-raus-klassenarbeit/
LOCATION:STATT-Theater\, Winklergasse 16\, Regensburg\, Winklergasse 16\, Regensburg\, Bayern\, 93047
CATEGORIES:ImproShow
ATTACH;FMTTYPE=image/jpeg:https://impro-theater-chamaeleon.de/wp-content/uploads/2026/01/web_Marathon25-LastUnsSpielen_Florian-Hammerich.jpg.jpg
ORGANIZER;CN="ImproTheater Cham%C3%A4leon":MAILTO:kontakt@impro-theater-chamaeleon.de
END:VEVENT
END:VCALENDAR