BEGIN:VCALENDAR
VERSION:2.0
PRODID:-//Impro Theater Chamäleon Regensburg - ECPv6.15.20//NONSGML v1.0//EN
CALSCALE:GREGORIAN
METHOD:PUBLISH
X-WR-CALNAME:Impro Theater Chamäleon Regensburg
X-ORIGINAL-URL:https://impro-theater-chamaeleon.de
X-WR-CALDESC:Veranstaltungen für Impro Theater Chamäleon Regensburg
REFRESH-INTERVAL;VALUE=DURATION:PT1H
X-Robots-Tag:noindex
X-PUBLISHED-TTL:PT1H
BEGIN:VTIMEZONE
TZID:Europe/Berlin
BEGIN:DAYLIGHT
TZOFFSETFROM:+0100
TZOFFSETTO:+0200
TZNAME:CEST
DTSTART:20240331T010000
END:DAYLIGHT
BEGIN:STANDARD
TZOFFSETFROM:+0200
TZOFFSETTO:+0100
TZNAME:CET
DTSTART:20241027T010000
END:STANDARD
BEGIN:DAYLIGHT
TZOFFSETFROM:+0100
TZOFFSETTO:+0200
TZNAME:CEST
DTSTART:20250330T010000
END:DAYLIGHT
BEGIN:STANDARD
TZOFFSETFROM:+0200
TZOFFSETTO:+0100
TZNAME:CET
DTSTART:20251026T010000
END:STANDARD
BEGIN:DAYLIGHT
TZOFFSETFROM:+0100
TZOFFSETTO:+0200
TZNAME:CEST
DTSTART:20260329T010000
END:DAYLIGHT
BEGIN:STANDARD
TZOFFSETFROM:+0200
TZOFFSETTO:+0100
TZNAME:CET
DTSTART:20261025T010000
END:STANDARD
END:VTIMEZONE
BEGIN:VEVENT
DTSTART;TZID=Europe/Berlin:20251230T193000
DTEND;TZID=Europe/Berlin:20251230T213000
DTSTAMP:20260422T121835
CREATED:20250520T053754Z
LAST-MODIFIED:20251115T160443Z
UID:1971-1767123000-1767130200@impro-theater-chamaeleon.de
SUMMARY:ImproTheater Chamaeleon - “Review Preview Show 2025-2026”
DESCRIPTION:Jahresrückblicke – Um Gottes Willen – schon wieder ein Jahr rum! Und schon wieder war es das schlimmste und kürzeste aller Zeiten. Oder gibt es doch noch einen Funken Hoffnung?  \nJahresrückblicke – von Dezember bis Januar in jeder Gazette und jedem Fernsehsender – und das seit Jahrzehnten im immergleichen Format. Das können die Chamäleons auch – Witz für Witz anhand des Jahreslaufs. Wir sehen uns aber auch genauer an\, wie Influencer und die Promis der Neuzeit auf das vergangene Jahr blicken.\nSo entsteht ein kunterbunter Jahresrückblick\, kurz bevor 2025 seine Pforten schließt und das neue Jahr 2026 das Licht der Welt erblickt. Natürlich ist -wie immer- alles komplett improvisiert. Die Chamäleons ergründen\, was die ganz genaue Wahrheit ist  – irgendwo zwischen dpa-Meldung\, der “100% – Methode\, wie du in 3 Tagen reich wirst” und der Hitliste der heißesten Sommerhits. \nErstmals in der Theatergeschichte dieser Erde erzählen die ImproSpieler aber auch die Zukunft: Die absolut wasserdichte Preview auf 2026.
URL:https://impro-theater-chamaeleon.de/event/improtheater-chamaeleon-reviewpreviewshow-2025-2026/
LOCATION:STATT-Theater\, Winklergasse 16\, Regensburg\, Winklergasse 16\, Regensburg\, Bayern\, 93047
ATTACH;FMTTYPE=image/jpeg:https://impro-theater-chamaeleon.de/wp-content/uploads/2025/05/Presse_ReviewPreview_Florian-Hammerich-scaled.jpg
ORGANIZER;CN="STATT-Theater":MAILTO:info@statt-theater.de
END:VEVENT
END:VCALENDAR