BEGIN:VCALENDAR
VERSION:2.0
PRODID:-//Impro Theater Chamäleon Regensburg - ECPv6.15.20//NONSGML v1.0//EN
CALSCALE:GREGORIAN
METHOD:PUBLISH
X-WR-CALNAME:Impro Theater Chamäleon Regensburg
X-ORIGINAL-URL:https://impro-theater-chamaeleon.de
X-WR-CALDESC:Veranstaltungen für Impro Theater Chamäleon Regensburg
REFRESH-INTERVAL;VALUE=DURATION:PT1H
X-Robots-Tag:noindex
X-PUBLISHED-TTL:PT1H
BEGIN:VTIMEZONE
TZID:Europe/Berlin
BEGIN:DAYLIGHT
TZOFFSETFROM:+0100
TZOFFSETTO:+0200
TZNAME:CEST
DTSTART:20240331T010000
END:DAYLIGHT
BEGIN:STANDARD
TZOFFSETFROM:+0200
TZOFFSETTO:+0100
TZNAME:CET
DTSTART:20241027T010000
END:STANDARD
BEGIN:DAYLIGHT
TZOFFSETFROM:+0100
TZOFFSETTO:+0200
TZNAME:CEST
DTSTART:20250330T010000
END:DAYLIGHT
BEGIN:STANDARD
TZOFFSETFROM:+0200
TZOFFSETTO:+0100
TZNAME:CET
DTSTART:20251026T010000
END:STANDARD
BEGIN:DAYLIGHT
TZOFFSETFROM:+0100
TZOFFSETTO:+0200
TZNAME:CEST
DTSTART:20260329T010000
END:DAYLIGHT
BEGIN:STANDARD
TZOFFSETFROM:+0200
TZOFFSETTO:+0100
TZNAME:CET
DTSTART:20261025T010000
END:STANDARD
END:VTIMEZONE
BEGIN:VEVENT
DTSTART;TZID=Europe/Berlin:20251031T193000
DTEND;TZID=Europe/Berlin:20251031T213000
DTSTAMP:20260422T033613
CREATED:20250921T160457Z
LAST-MODIFIED:20250921T160458Z
UID:2074-1761939000-1761946200@impro-theater-chamaeleon.de
SUMMARY:ImproTheater Chamäleon – »We make your day«
DESCRIPTION:Es wird düster\, es wird gespenstisch – und verdammt unterhaltsam! \nDer Nebel kriecht durch die Gassen\, das Licht der Kürbisse flackert gespenstisch – es ist Halloween! Die Grenze zwischen Realität und Fantasie ist durchlässig geworden\, und genau da setzen die Spieler des ImproTheater Chamäleon an. Heute Nacht erfüllen sie alle düsteren\, verrückten oder schlichtweg übernatürlichen Wünsche der Gäste.\nOb dein nächster Heiratsantrag in der Geisterbahn\, eine Geburtstagsbotschaft aus dem Jenseits an deine spanische Erbtante – oder dein Selbstfindungstrip mit einer Vampir-Canastagruppe durch Transsilvanien: Heute ist alles möglich. Auch deine Kreuzfahrt durchs Unterbewusstsein kann zur Geisterfahrt werden. Traust du dich?\nSpukreisen in alte Zeiten\, Visionen finsterer Zukünfte oder schaurige Kindheitserinnerungen – die Chamäleons zaubern dir heute Gänsehaut und ein Lächeln ins Gesicht. \nWie immer ist jede Szene improvisiert – an diesem Abend ganz im Zeichen der Wünsche der mutigsten Zuschauer*innen.\nRaus aus dem Alltag\, rein in die Schattenwelt der Fantasie.
URL:https://impro-theater-chamaeleon.de/event/improtheater-chamaeleon-we-make-your-day-3/
LOCATION:Turmtheater Regensburg\, Watmarkt 5\, Regensburg\, Bayern\, 93047\, Deutschland
CATEGORIES:ImproShow
ATTACH;FMTTYPE=image/jpeg:https://impro-theater-chamaeleon.de/wp-content/uploads/2025/09/FH-Chamaeleon-20072025-0395_web.jpg
ORGANIZER;CN="Turmtheater":MAILTO:info@regensburgerturmtheater.de
END:VEVENT
END:VCALENDAR